BEGIN:VCALENDAR
VERSION:2.0
PRODID:-//Ottawa Parenting Times Magazine - ECPv5.1.6//NONSGML v1.0//EN
CALSCALE:GREGORIAN
METHOD:PUBLISH
X-WR-CALNAME:Ottawa Parenting Times Magazine
X-ORIGINAL-URL:https://www.ottawaparentingtimes.ca
X-WR-CALDESC:Events for Ottawa Parenting Times Magazine
BEGIN:VTIMEZONE
TZID:UTC
BEGIN:STANDARD
TZOFFSETFROM:+0000
TZOFFSETTO:+0000
TZNAME:UTC
DTSTART:20150101T000000
END:STANDARD
END:VTIMEZONE
BEGIN:VEVENT
DTSTART;VALUE=DATE:20150710
DTEND;VALUE=DATE:20150711
DTSTAMP:20260422T211609
CREATED:20150710T150530Z
LAST-MODIFIED:20150710T150530Z
UID:6496-1436486400-1436572799@www.ottawaparentingtimes.ca
SUMMARY:Little Scholars Montessori OPEN HOUSE DAYS
DESCRIPTION:Little Scholars Montessori Daycare\n\n\n1455 Woodroffe Ave.\nNepean\, ON\n(613) 727-1455\n\n\n\nLittle Scholars Montessori Daycare\n\n\n\n\n\n\n3500 Fallowfield Rd.\nNepean\, ON\n(613) 825-1130 \n\n\nLittle Scholars Montessori Daycare\n\n\n\n\n\n2910 Woodroffe Av\nNepean\, ON\n(613) 823-4047
URL:https://www.ottawaparentingtimes.ca/event/little-scholars-montessori-open-house-days/
LOCATION:Unnamed Venue\, Ottawa\, 
END:VEVENT
END:VCALENDAR