BEGIN:VCALENDAR
VERSION:2.0
PRODID:-//Ottawa Parenting Times Magazine - ECPv5.1.6//NONSGML v1.0//EN
CALSCALE:GREGORIAN
METHOD:PUBLISH
X-WR-CALNAME:Ottawa Parenting Times Magazine
X-ORIGINAL-URL:https://www.ottawaparentingtimes.ca
X-WR-CALDESC:Events for Ottawa Parenting Times Magazine
BEGIN:VTIMEZONE
TZID:UTC
BEGIN:STANDARD
TZOFFSETFROM:+0000
TZOFFSETTO:+0000
TZNAME:UTC
DTSTART:20160101T000000
END:STANDARD
END:VTIMEZONE
BEGIN:VEVENT
DTSTART;VALUE=DATE:20160924
DTEND;VALUE=DATE:20160927
DTSTAMP:20260422T011209
CREATED:20160812T152806Z
LAST-MODIFIED:20160812T152858Z
UID:7944-1474675200-1474934399@www.ottawaparentingtimes.ca
SUMMARY:LITTLE SCHOLARS MONTESSORI REGISTRATION & OPEN HOUSE DAYS
DESCRIPTION:Saturday\, September 24th – 10am to 1pm \nMonday\, September 26th – 6pm to 7pm \n*** Registration fee discount for first 10 families *** \nOffer your child a deserving start! \n2910 Woodroffe (Barrhaven) \n3500 Fallowfield (Barrhaven) \n4100 Strandherd (Barrhaven) \n1455 Woodroffe (Nepean) \n613-277-6866 \nwww.LittleScholarsMontessori.com
URL:https://www.ottawaparentingtimes.ca/event/little-scholars-montessori-registration-open-house-days/
END:VEVENT
END:VCALENDAR