BEGIN:VCALENDAR
VERSION:2.0
PRODID:-//Ottawa Parenting Times Magazine - ECPv5.1.6//NONSGML v1.0//EN
CALSCALE:GREGORIAN
METHOD:PUBLISH
X-WR-CALNAME:Ottawa Parenting Times Magazine
X-ORIGINAL-URL:https://www.ottawaparentingtimes.ca
X-WR-CALDESC:Events for Ottawa Parenting Times Magazine
BEGIN:VTIMEZONE
TZID:UTC
BEGIN:STANDARD
TZOFFSETFROM:+0000
TZOFFSETTO:+0000
TZNAME:UTC
DTSTART:20170101T000000
END:STANDARD
END:VTIMEZONE
BEGIN:VEVENT
DTSTART;VALUE=DATE:20170127
DTEND;VALUE=DATE:20170205
DTSTAMP:20260422T154858
CREATED:20161129T024519Z
LAST-MODIFIED:20161129T024613Z
UID:8324-1485475200-1486252799@www.ottawaparentingtimes.ca
SUMMARY:Marry Poppins @ Centrepointe Theatres - Jan.27 - Feb.4\, 2017
DESCRIPTION:When: Jan. 27-Feb. 4\, 2017\nWhere: Centrepointe Theatres\,\n101 Centrepointe Dr.\nWhat: One of the most popular Disney movies\nof all time is capturing hearts as a musical\, and\nit’s coming to Ottawa! Based on the books\nby P.L. Travers and the classic Walt Disney\nfilm\, Disney and Cameron Mackintosh’s Mary\nPoppins delighted Broadway audiences for\nover 2\,500 performances and received nominations\nfor nine Olivier and seven Tony Awards\,\nincluding Best Musical. Mary Poppins promises\nto be an enchanting mix of wonderful story\,\nmemorable songs\, engaging dance numbers\nand astonishing stagecraft.\nWebsite: www.centrepointetheatre.ca
URL:https://www.ottawaparentingtimes.ca/event/marry-poppins/
LOCATION:Centrepointe Theatres\, 101 Centrepointe Drive\, Ottawa\, ON
END:VEVENT
END:VCALENDAR