BEGIN:VCALENDAR
VERSION:2.0
PRODID:-//Ottawa Parenting Times Magazine - ECPv5.1.6//NONSGML v1.0//EN
CALSCALE:GREGORIAN
METHOD:PUBLISH
X-WR-CALNAME:Ottawa Parenting Times Magazine
X-ORIGINAL-URL:https://www.ottawaparentingtimes.ca
X-WR-CALDESC:Events for Ottawa Parenting Times Magazine
BEGIN:VTIMEZONE
TZID:UTC
BEGIN:STANDARD
TZOFFSETFROM:+0000
TZOFFSETTO:+0000
TZNAME:UTC
DTSTART:20150101T000000
END:STANDARD
END:VTIMEZONE
BEGIN:VEVENT
DTSTART;VALUE=DATE:20150703
DTEND;VALUE=DATE:20150704
DTSTAMP:20260422T211631
CREATED:20150703T151724Z
LAST-MODIFIED:20150703T151724Z
UID:6462-1435881600-1435967999@www.ottawaparentingtimes.ca
SUMMARY:Monday Night Movies at the Museum
DESCRIPTION:Escape the heat\, grab some popcorn\nand explore the First World War and\nCanada’s history through cinema! Visit\nwww.bytownmuseum.com for film selection.
URL:https://www.ottawaparentingtimes.ca/event/monday-night-movies-at-the-museum/
LOCATION:Bytown Musum\, 1 Canal Lane\, at the Rideau Canal locks between Parliament Hill and the Château Laurier hotel\, Ottawa\, Ontario\, Canada
END:VEVENT
END:VCALENDAR