BEGIN:VCALENDAR
VERSION:2.0
PRODID:-//Ottawa Parenting Times Magazine - ECPv5.1.6//NONSGML v1.0//EN
CALSCALE:GREGORIAN
METHOD:PUBLISH
X-WR-CALNAME:Ottawa Parenting Times Magazine
X-ORIGINAL-URL:https://www.ottawaparentingtimes.ca
X-WR-CALDESC:Events for Ottawa Parenting Times Magazine
BEGIN:VTIMEZONE
TZID:UTC
BEGIN:STANDARD
TZOFFSETFROM:+0000
TZOFFSETTO:+0000
TZNAME:UTC
DTSTART:20200101T000000
END:STANDARD
END:VTIMEZONE
BEGIN:VEVENT
DTSTART;VALUE=DATE:20200217
DTEND;VALUE=DATE:20200218
DTSTAMP:20260422T090247
CREATED:20200208T200717Z
LAST-MODIFIED:20200208T200717Z
UID:12902-1581897600-1581983999@www.ottawaparentingtimes.ca
SUMMARY:Monkey Rock Music Family Day Show - February 17\, 2020
DESCRIPTION:Monkey Rock Music’s 100% participatory children’s rock concert! Children’s music at a brewery. What could be better!? \nAbout this Event\nOttawa’s greatest children’s music concert is back and better than ever! Children’s classics\, original music\, and your favourite rock covers!Not only that\, the band is bigger\, and there’s even going to be a parachute!\nOur event is famous for its level of participation\, even getting kids on stage to rock with the band. Electric guitars\, drums\, and rock & roll lights all come together for a great first live music experience for your little monkey. And all at a volume perfect for little ears.\nThis event sells out EVERY. SINGLE. TIME. Get your tickets today! Recommended for children ages 2 years old and up. All attendees over the age of 12 months on February 17th\, 2020\, require a ticket.
URL:https://www.ottawaparentingtimes.ca/event/monkey-rock-music-family-day-show-february-17-2020/
LOCATION:Overflow Brewing Company\, 2477 Kaladar Ave.\, Ottawa\, ON\, K1V 8B9\, Canada
END:VEVENT
END:VCALENDAR