BEGIN:VCALENDAR
VERSION:2.0
PRODID:-//Ottawa Parenting Times Magazine - ECPv5.1.6//NONSGML v1.0//EN
CALSCALE:GREGORIAN
METHOD:PUBLISH
X-WR-CALNAME:Ottawa Parenting Times Magazine
X-ORIGINAL-URL:https://www.ottawaparentingtimes.ca
X-WR-CALDESC:Events for Ottawa Parenting Times Magazine
BEGIN:VTIMEZONE
TZID:UTC
BEGIN:STANDARD
TZOFFSETFROM:+0000
TZOFFSETTO:+0000
TZNAME:UTC
DTSTART:20170101T000000
END:STANDARD
END:VTIMEZONE
BEGIN:VEVENT
DTSTART;VALUE=DATE:20171027
DTEND;VALUE=DATE:20171028
DTSTAMP:20260422T121945
CREATED:20170812T162217Z
LAST-MODIFIED:20170812T162217Z
UID:10995-1509062400-1509148799@www.ottawaparentingtimes.ca
SUMMARY:Music on a Mission – Family Services Ottawa’s Music Trivia Fundraiser - October 27\, 2017
DESCRIPTION:When: Oct. 27\, 2017\, 6 p.m. to 11 p.m. \nWhere: Tudor Hall\, 3750 North Bowesville Rd.\n(near Riverside & Uplands)\nWhat: This fun-filled music trivia night challenges\nattendees to name artists\, songs\, movies\,\njingles\, and television shows from every musical\ngenre in a series of 10 exciting rounds. Includes\na pizza dinner\, spectacular silent auction – with\nitems and trips donated from around the world\n– magnificent bake sale\, raffle\, prizes\, and\nmore!\nWebsite: www.musiconamission.ca
URL:https://www.ottawaparentingtimes.ca/event/music-mission-family-services-ottawas-music-trivia-fundraiser-october-27-2017/
LOCATION:Tudor Hall\, 3750 North Bowesville Rd\, Ottawa\, Ontario
END:VEVENT
END:VCALENDAR