BEGIN:VCALENDAR
VERSION:2.0
PRODID:-//Ottawa Parenting Times Magazine - ECPv5.1.6//NONSGML v1.0//EN
CALSCALE:GREGORIAN
METHOD:PUBLISH
X-WR-CALNAME:Ottawa Parenting Times Magazine
X-ORIGINAL-URL:https://www.ottawaparentingtimes.ca
X-WR-CALDESC:Events for Ottawa Parenting Times Magazine
BEGIN:VTIMEZONE
TZID:UTC
BEGIN:STANDARD
TZOFFSETFROM:+0000
TZOFFSETTO:+0000
TZNAME:UTC
DTSTART:20160101T000000
END:STANDARD
END:VTIMEZONE
BEGIN:VEVENT
DTSTART;VALUE=DATE:20161201
DTEND;VALUE=DATE:20161208
DTSTAMP:20260422T155042
CREATED:20161201T142442Z
LAST-MODIFIED:20161201T142442Z
UID:8333-1480550400-1481155199@www.ottawaparentingtimes.ca
SUMMARY:National Safe Driving Week - December 1 to 7\, 2017
DESCRIPTION:Icy and Dicey: Avoid Unnecessary Risk  \nAlthough Canadians are used to snow flurries\, ice patches and bone-chilling cold temperatures\, winters still seem to arrive earlier than anyone expects it every year. And\, unfortunately\, this unexpected arrival combines with a lack of driver preparation to create a dangerous cocktail of collisions\, near misses and\, in some cases\, fatalities. \nDecember 1-7 is National Safe Driving Week and the Canada Safety Council would like to remind you of the importance of preparing yourself for winter driving. During the non-winter season\, bad driving habits can creep into a driver’s repertoire\, including aggressive braking and a lack of space around your car. These same habits just don’t work in the wintertime\, as snow and slush are much more unforgiving than dry and clear pavement.  \nHere are a few safety considerations to keep in mind: \nWinter tires \nThe only thing between your vehicle and the road is your tires. Four patches of rubber\, each about the width of a sheet of paper. During the winter months\, the rubber compound in tires that are intended for the weather stays softer than other tires\, improving traction and grip. They can also contribute in reducing braking distances by as much as 25 per cent. \nAccording to a 2016 study done for the Tire and Rubber Association of Canada\, 61 per cent of Canadian drivers are using winter tires. (This data does not include Quebec\, where it is legally required.)  \nThe 61 per cent represents a nationwide increase since an identical study was performed in 2014\, including an 11 per cent increase in British Columbia\, Manitoba and Saskatchewan as well as a 10 per cent increase in Alberta\, a nine per cent increase in Ontario and an eight per cent increase in Atlantic Canada. \nIt is also worth mentioning that Atlantic Canada represents the second highest percentage of winter tire users in Canada\, behind Quebec. \nWinter tires wear out less than all-season tires in the winter weather\, so any cost savings of sticking to all-season tires is negligible over the lifespan of the tires. Don’t let a price tag deter you from making the smart and safe choice. \nWinter tires should be installed when the weather drops below 7 degrees Celsius\, as that is when they’re at their most effective.  Be sure that your winter tires come with the three-peak-mountain-and-snowflake icon designating that the tires meet standards to be classified as winter tires\, and be sure to use four winter tires of the same type. Don’t mix and match. \nAdjust your driving habits \nWhen the roads are clear and dry\, the conditions are more forgiving of braking more aggressively and leaving less space between yourself and the car in front of you. With ice\, slush and snow in play\, there’s much less margin for error. A slower pace and more room around your vehicle will only serve you well. Take care to steer gently\, avoid cruise control\, and steer in the direction you want to go in the event of a skid. \nWinter also brings its own set of unique hazards that aren’t present during the summer. Snow banks may encroach on the roadways\, providing more restrictive access to some lanes. This makes it more important than ever to share the road. Give yourself enough room to manoeuvre your vehicle. If that means waiting for another driver to pass by\, don’t speed up and try to squeeze past them. Be patient.  \nLeave yourself some time before leaving to check the weather conditions\, and consider canceling or delaying your trip if conditions appear to be worsening. Should you be able to leave safely\, clear your car of snow and ice before doing so. \nLet snowplows do their thing \nAlways yield the right-of-way to snowplows. Plow drivers know their vehicles and their limitations. They have to drive at slower speeds and stop frequently. As with the above\, patience is paramount. The plow driver will pull over and allow you to pass when it is safe to do so. \nDon’t ever attempt to pass a working plow\, as you risk hitting the blade and causing damage to their vehicle and yours. Or you could get buried under a pile of snow the snowplow is attempting to clear. Sight lines and visibility are reduced\, especially during a snowstorm\, and it’s a dangerous and reckless risk that could take your life and the snowplow operator’s. \nBe patient. Wait. Snowplows are working to make your commute as safe as possible. Give them the time and space they need to do their job. \nCar maintenance \nLastly\, make sure your car is winterized and ready for the season. This includes a fully-charged battery\, a topped up windshield washer fluid reservoir\, fully functional heater and defroster and windshield wipers that can withstand the ice and snow without leaving large streaks. \nIt’s also a great idea to keep an ice scraper\, a jug of windshield washer fluid that works down to -40 degrees Celsius\, and an emergency survival kit including a charged phone\, water and non-perishable food\, a flashlight\, a blanket\, warm clothes\, jumper cables\, a shovel\, traction mats or sand\, candles and a book of matches or a lighter. \nYou should also get a maintenance checkup done on your vehicle. An expert will be the best person to help you ensure your vehicle is winterized and ready to roll \nWork together with fellow motorists this winter season to ensure that everyone gets where they need to be safely and in one piece
URL:https://www.ottawaparentingtimes.ca/event/national-safe-driving-week-december-1-7-2017/
END:VEVENT
END:VCALENDAR