BEGIN:VCALENDAR
VERSION:2.0
PRODID:-//Ottawa Parenting Times Magazine - ECPv5.1.6//NONSGML v1.0//EN
CALSCALE:GREGORIAN
METHOD:PUBLISH
X-WR-CALNAME:Ottawa Parenting Times Magazine
X-ORIGINAL-URL:https://www.ottawaparentingtimes.ca
X-WR-CALDESC:Events for Ottawa Parenting Times Magazine
BEGIN:VTIMEZONE
TZID:UTC
BEGIN:STANDARD
TZOFFSETFROM:+0000
TZOFFSETTO:+0000
TZNAME:UTC
DTSTART:20160101T000000
END:STANDARD
END:VTIMEZONE
BEGIN:VEVENT
DTSTART;VALUE=DATE:20160811
DTEND;VALUE=DATE:20160815
DTSTAMP:20260422T192658
CREATED:20160531T020657Z
LAST-MODIFIED:20160531T020657Z
UID:7589-1470873600-1471219199@www.ottawaparentingtimes.ca
SUMMARY:Navan Fair
DESCRIPTION:Where: Navan\, Ont.\n(20 minutes southeast of downtown Ottawa)\nWhat: This great country fair offers a funfilled\nweekend of live music\, midway rides\,\nparade\, Kids Zone\, horse show\, tractor and\ntruck pull\, and much more.\nWebsite: www.navanfair.com
URL:https://www.ottawaparentingtimes.ca/event/navan-fair/
END:VEVENT
END:VCALENDAR