BEGIN:VCALENDAR
VERSION:2.0
PRODID:-//Ottawa Parenting Times Magazine - ECPv5.1.6//NONSGML v1.0//EN
CALSCALE:GREGORIAN
METHOD:PUBLISH
X-WR-CALNAME:Ottawa Parenting Times Magazine
X-ORIGINAL-URL:https://www.ottawaparentingtimes.ca
X-WR-CALDESC:Events for Ottawa Parenting Times Magazine
BEGIN:VTIMEZONE
TZID:UTC
BEGIN:STANDARD
TZOFFSETFROM:+0000
TZOFFSETTO:+0000
TZNAME:UTC
DTSTART:20160101T000000
END:STANDARD
END:VTIMEZONE
BEGIN:VEVENT
DTSTART;VALUE=DATE:20160924
DTEND;VALUE=DATE:20160925
DTSTAMP:20260422T044214
CREATED:20160912T181406Z
LAST-MODIFIED:20160912T181406Z
UID:8075-1474675200-1474761599@www.ottawaparentingtimes.ca
SUMMARY:Nepean Visual Arts Centre - Fall Porch Workshop - September 24\, 2016
DESCRIPTION:Fall Porch Workshop \nBe the envy of the neighbourhood—create a handmade personalized doormat and other decorative items that will beautify your home entrance this fall season. Choose from a variety of styles. Supplies provided. Maximum 4 participants per family. All ages welcome. \nInstructor: Stephanie Browness \nSat. noon-4 pm \nSep 24 $119 \nBar code: 1064476
URL:https://www.ottawaparentingtimes.ca/event/nepean-visual-arts-centre-fall-porch-workshop-september-24-2016/
END:VEVENT
END:VCALENDAR