BEGIN:VCALENDAR
VERSION:2.0
PRODID:-//Ottawa Parenting Times Magazine - ECPv5.1.6//NONSGML v1.0//EN
CALSCALE:GREGORIAN
METHOD:PUBLISH
X-WR-CALNAME:Ottawa Parenting Times Magazine
X-ORIGINAL-URL:https://www.ottawaparentingtimes.ca
X-WR-CALDESC:Events for Ottawa Parenting Times Magazine
BEGIN:VTIMEZONE
TZID:UTC
BEGIN:STANDARD
TZOFFSETFROM:+0000
TZOFFSETTO:+0000
TZNAME:UTC
DTSTART:20160101T000000
END:STANDARD
END:VTIMEZONE
BEGIN:VEVENT
DTSTART;TZID=UTC:20161104T190000
DTEND;TZID=UTC:20161104T210000
DTSTAMP:20260421T105130
CREATED:20160818T213343Z
LAST-MODIFIED:20160818T213343Z
UID:7966-1478286000-1478293200@www.ottawaparentingtimes.ca
SUMMARY:Nepean Visual Arts Centre Vernissage - November 4\, 2016
DESCRIPTION:Featuring the NVAC Fall Instructor and students exhibition\n\n\n\nFriday\, November 4 at 7:00 PM – 9:00 PM in EDT\n\n\n\n\n\n\n\n\n\n\n \n\n\n\n\n\n\n\n\n\nShow Map\n\n\n\n\nNepean Visual Arts Centre\n\n\n\n\n\n\n\n1701 Woodroffe Ave\, Nepean\, Ontario
URL:https://www.ottawaparentingtimes.ca/event/nepean-visual-arts-centre-vernissage-november-4-2016/
END:VEVENT
END:VCALENDAR