BEGIN:VCALENDAR
VERSION:2.0
PRODID:-//Ottawa Parenting Times Magazine - ECPv5.1.6//NONSGML v1.0//EN
CALSCALE:GREGORIAN
METHOD:PUBLISH
X-WR-CALNAME:Ottawa Parenting Times Magazine
X-ORIGINAL-URL:https://www.ottawaparentingtimes.ca
X-WR-CALDESC:Events for Ottawa Parenting Times Magazine
BEGIN:VTIMEZONE
TZID:UTC
BEGIN:STANDARD
TZOFFSETFROM:+0000
TZOFFSETTO:+0000
TZNAME:UTC
DTSTART:20160101T000000
END:STANDARD
END:VTIMEZONE
BEGIN:VEVENT
DTSTART;VALUE=DATE:20160827
DTEND;VALUE=DATE:20160828
DTSTAMP:20260422T174810
CREATED:20160805T195245Z
LAST-MODIFIED:20160805T195245Z
UID:7941-1472256000-1472342399@www.ottawaparentingtimes.ca
SUMMARY:The North Lanark Highland Games. Saturday August 27\, 2016. 9:00 a.m. - 6:00 p.m
DESCRIPTION:Welcome To The North Lanark Highland Games\nSaturday August 27\, 2016\n9:00 a.m. – 6:00 p.m.\nN.L.A.S. Fairgrounds\, Almonte\, Ontario\n \nAnnouncements\n\n\n\nJuly 26th\, 2016\n\nHeavy Event athletes for the 33rd highland games have now been posted. This year will feature a New Brunswick vs. Ontario competition.\n\n\n\n\n\n\nMay 21st\, 2016\n\nDance registration is now open for 2016.\n\n\n\n\nMay 17th\, 2016\n\nFor 2016\, tickets for children under 12 will be free\n\n\n\n\nMay 12th\, 2016\n\nThe RCMP Pipes and Drums will be acting as the duty band for the 33rd highland games\n\nFor more information\ncontact us\n\nCelebrate the Scottish culture and heritage of the Ottawa Valley at the 33rd annual North Lanark Highland Games in Almonte\, on Saturday\, August 27th\, 2016. Our games are held in the historic town of Almonte at the beautiful old grounds of the North Lanark Agricultural Society on the banks of Ontario’s Mississippi River. \nThe Games offer a traditional format and size attracting about 6\,000 visitors. Twenty pipe bands\, a hundred dancers and champion heavyweight athletes combine to present what is recognized as one of the Ottawa valley’s premier summer events. \nWith mini games organized for kids and the picturesque Mississippi as the backdrop\, the Almonte games have a reputation not only as having the prettiest site but also as being the friendliest games on the Ontario circuit. \nThe grounds feature numerous Scottish concessions\, where visitors may obtain traditional clothing\, Scottish food\, refreshments\, souvenir items\, crafts\, and genealogical information. \nParking is free off-site with a convenient free shuttle service provided. \nThe games start at 9:00am\, opening ceremonies are at 1:00pm\, with final massed bands at 5:30pm and in the evening\, a ceilidh (Scottish party) will be held at the beer garden site. \nTicket prices at the gate are $17.00 for adults and $6.00 for children (6-13) while advance ticket prices are $15.00 for adults (no advance purchase for children’s tickets). Children under 12 will be free (2016 Only). Tickets are available at a number of local retailers: \n\nAlmonte: Mill Street Books\nCarleton Place: Carleton Place Chamber of Commerce\nPakenham: Nicholson’s Sundries
URL:https://www.ottawaparentingtimes.ca/event/north-lanark-highland-games-saturday-august-27-2016-900-m-600-p-m/
END:VEVENT
END:VCALENDAR