BEGIN:VCALENDAR
VERSION:2.0
PRODID:-//Ottawa Parenting Times Magazine - ECPv5.1.6//NONSGML v1.0//EN
CALSCALE:GREGORIAN
METHOD:PUBLISH
X-WR-CALNAME:Ottawa Parenting Times Magazine
X-ORIGINAL-URL:https://www.ottawaparentingtimes.ca
X-WR-CALDESC:Events for Ottawa Parenting Times Magazine
BEGIN:VTIMEZONE
TZID:UTC
BEGIN:STANDARD
TZOFFSETFROM:+0000
TZOFFSETTO:+0000
TZNAME:UTC
DTSTART:20180101T000000
END:STANDARD
END:VTIMEZONE
BEGIN:VEVENT
DTSTART;VALUE=DATE:20180820
DTEND;VALUE=DATE:20180904
DTSTAMP:20260422T101950
CREATED:20180820T192406Z
LAST-MODIFIED:20180820T192406Z
UID:11935-1534723200-1536019199@www.ottawaparentingtimes.ca
SUMMARY:Northern Lights: Sound and Light Show - Until September 3\, 2018
DESCRIPTION:When: Nightly until September 3. Show starts\nat 9:30 p.m. in August and 9 p.m. in September.\nWhere: Parliament Hill\, in front of Centre Block\nWhat: Discover the stories of Canada as\ntold through a spectacle of giant images\nof Canada’s physical\, historical\, and cultural\nlandscapes projected the façade of the Centre\nBlock. Northern Lights broke records last year\,\nwith more than 314\,400 people in attendance\nin 2017. Catch it before it’s gone! Bring a\nblanket or chairs to sit on. This is a free bilingual\nevening show.\nWebsite: canada.ca/en/canadian-heritage/\ncampaigns/sound-light-show.html
URL:https://www.ottawaparentingtimes.ca/event/northern-lights-sound-and-light-show-until-september-3-2018/
LOCATION:Parliament Hi\, Ottawa\, ON
END:VEVENT
END:VCALENDAR