BEGIN:VCALENDAR
VERSION:2.0
PRODID:-//Ottawa Parenting Times Magazine - ECPv5.1.6//NONSGML v1.0//EN
CALSCALE:GREGORIAN
METHOD:PUBLISH
X-WR-CALNAME:Ottawa Parenting Times Magazine
X-ORIGINAL-URL:https://www.ottawaparentingtimes.ca
X-WR-CALDESC:Events for Ottawa Parenting Times Magazine
BEGIN:VTIMEZONE
TZID:UTC
BEGIN:STANDARD
TZOFFSETFROM:+0000
TZOFFSETTO:+0000
TZNAME:UTC
DTSTART:20170101T000000
END:STANDARD
END:VTIMEZONE
BEGIN:VEVENT
DTSTART;VALUE=DATE:20171216
DTEND;VALUE=DATE:20171217
DTSTAMP:20260422T120521
CREATED:20170812T163642Z
LAST-MODIFIED:20170812T163718Z
UID:11008-1513382400-1513468799@www.ottawaparentingtimes.ca
SUMMARY:The Nutcracker - December 16\, 2017 @ Centrepointe Theatres
DESCRIPTION:The Nutcracker\nWhen: Dec. 16\, 2017\nWhere: Centrepointe Theatres\, 101 Centrepointe Drive.\nWhat: Canada’s Ballet Jörgen’s traditional\ntreasure The Nutcracker: A Canadian Tradition\nis a beloved favourite that brings magic to the\nholidays. As audiences are taken on Klara’s\nfamiliar\, magical dream journey as she arrives in\nCanada and experiences winter landscapes filled\nwith snowflakes\, lumberjacks\, Mounties\, and\ncreatures of the woods. This spectacular family\nevent will warm the hearts of young and old alike.\nWebsite: www.centrepointetheatre.ca
URL:https://www.ottawaparentingtimes.ca/event/nutcracker-december-16-2017-centrepointe-theatres/
LOCATION:Centrepointe Theatres\, 101 Centrepointe Drive\, Ottawa\, Ontario\, Canada
END:VEVENT
END:VCALENDAR