BEGIN:VCALENDAR
VERSION:2.0
PRODID:-//Ottawa Parenting Times Magazine - ECPv5.1.6//NONSGML v1.0//EN
CALSCALE:GREGORIAN
METHOD:PUBLISH
X-WR-CALNAME:Ottawa Parenting Times Magazine
X-ORIGINAL-URL:https://www.ottawaparentingtimes.ca
X-WR-CALDESC:Events for Ottawa Parenting Times Magazine
BEGIN:VTIMEZONE
TZID:UTC
BEGIN:STANDARD
TZOFFSETFROM:+0000
TZOFFSETTO:+0000
TZNAME:UTC
DTSTART:20180101T000000
END:STANDARD
END:VTIMEZONE
BEGIN:VEVENT
DTSTART;VALUE=DATE:20180307
DTEND;VALUE=DATE:20180312
DTSTAMP:20260422T120646
CREATED:20171129T162745Z
LAST-MODIFIED:20171129T163252Z
UID:11290-1520380800-1520812799@www.ottawaparentingtimes.ca
SUMMARY:One Thing Leads to Another @ The GCTC - March 7 to 11\, 2018
DESCRIPTION:One Thing Leads to Another at the Great Canadian Theatre Company  \nMARCH 7 – 11\, 2018  (Ages: 3 to 24 months) \nA Collective Collaboration by Maja Ardal\, Audrey Dwyer\, Mary Francis Moore and Julia Tribe DEVELOPED FROM THE ORIGINAL CONCEPT\, RESEARCH AND THEME BY MAJA ARDAL \nOne Things Leads to Another is sure to engage\, stimulate and delight baby and parent or adult companion alike. Observe your littlest play-goer experience everyday objects being transformed into fabulous\, theatrical phenomena. Additional information below the pictures.  \n  \nPictured Above: Audrey Dwyer – Performer/Creative Collaborator; Avital Zemer Photography \nFor more information visit our website: http://www.gctc.ca/whats/youth-theatre \nPlease share on Facebook: https://www.facebook.com/GCTCLive/ \nPass the word on Twitter: https://twitter.com/GCTCLive
URL:https://www.ottawaparentingtimes.ca/event/one-thing-leads-another-gctc-march-7-11-2018/
LOCATION:Great Canadian Theatre Company\, 1233 Wellington St. West\, Ottawa\, Ontario\, K1Y 2Z9
END:VEVENT
END:VCALENDAR