BEGIN:VCALENDAR
VERSION:2.0
PRODID:-//Ottawa Parenting Times Magazine - ECPv5.1.6//NONSGML v1.0//EN
CALSCALE:GREGORIAN
METHOD:PUBLISH
X-WR-CALNAME:Ottawa Parenting Times Magazine
X-ORIGINAL-URL:https://www.ottawaparentingtimes.ca
X-WR-CALDESC:Events for Ottawa Parenting Times Magazine
BEGIN:VTIMEZONE
TZID:UTC
BEGIN:STANDARD
TZOFFSETFROM:+0000
TZOFFSETTO:+0000
TZNAME:UTC
DTSTART:20170101T000000
END:STANDARD
END:VTIMEZONE
BEGIN:VEVENT
DTSTART;VALUE=DATE:20170225
DTEND;VALUE=DATE:20170226
DTSTAMP:20260422T155048
CREATED:20170208T164353Z
LAST-MODIFIED:20170208T164412Z
UID:8652-1487980800-1488067199@www.ottawaparentingtimes.ca
SUMMARY:Ottawa Children's Gala - Feb.25\, 2017
DESCRIPTION:Where: Canadian Museum of History\, 100 Laurier St.\, Gatineau\nWhat: Children and adults will delight in\nthis gala\, complete with red carpet experience\,\nprofessional photographer\, fancy\nmeal\, entertainment and dancing. Proceeds\nsupport the ‘Plan-It Safe’ program at the\nChildren’s Hospital of Eastern Ontario\, which\naims to eliminate preventable childhood\ninjuries.
URL:https://www.ottawaparentingtimes.ca/event/ottawa-childrens-gala-feb-25-2017/
LOCATION:100 Laurier Street\, Gatineau\, QC
END:VEVENT
END:VCALENDAR