BEGIN:VCALENDAR
VERSION:2.0
PRODID:-//Ottawa Parenting Times Magazine - ECPv5.1.6//NONSGML v1.0//EN
CALSCALE:GREGORIAN
METHOD:PUBLISH
X-WR-CALNAME:Ottawa Parenting Times Magazine
X-ORIGINAL-URL:https://www.ottawaparentingtimes.ca
X-WR-CALDESC:Events for Ottawa Parenting Times Magazine
BEGIN:VTIMEZONE
TZID:UTC
BEGIN:STANDARD
TZOFFSETFROM:+0000
TZOFFSETTO:+0000
TZNAME:UTC
DTSTART:20170101T000000
END:STANDARD
END:VTIMEZONE
BEGIN:VEVENT
DTSTART;VALUE=DATE:20170610
DTEND;VALUE=DATE:20170612
DTSTAMP:20260422T135454
CREATED:20170421T142919Z
LAST-MODIFIED:20170421T142919Z
UID:9720-1497052800-1497225599@www.ottawaparentingtimes.ca
SUMMARY:Ottawa Dog Festival - June 10-11\, 2017
DESCRIPTION:When: June 10-11\, 2017\nWhere: RA Centre\, 2451 Riverside Dr.\nWhat: The Ottawa Dog Festival is an outdoor\nevent for families and their four-legged friends.\nWith games\, competitions\, food trucks and\nmore\, there’s fun for people and pooches\nalike. Watch the pro pups from the Rideau\nRiver Dock Diving\, try out the Lure Course\, and\nshop\, watch\, play\, compete and have fun with\nyour dog!\nWebsite: www.ottawadogfestival.ca
URL:https://www.ottawaparentingtimes.ca/event/ottawa-dog-festival-june-10-11-2017/
LOCATION:RA Centre\, 2451 Riverside Drive\, Ottawa\, Ontario
END:VEVENT
END:VCALENDAR