BEGIN:VCALENDAR
VERSION:2.0
PRODID:-//Ottawa Parenting Times Magazine - ECPv5.1.6//NONSGML v1.0//EN
CALSCALE:GREGORIAN
METHOD:PUBLISH
X-WR-CALNAME:Ottawa Parenting Times Magazine
X-ORIGINAL-URL:https://www.ottawaparentingtimes.ca
X-WR-CALDESC:Events for Ottawa Parenting Times Magazine
BEGIN:VTIMEZONE
TZID:UTC
BEGIN:STANDARD
TZOFFSETFROM:+0000
TZOFFSETTO:+0000
TZNAME:UTC
DTSTART:20160101T000000
END:STANDARD
END:VTIMEZONE
BEGIN:VEVENT
DTSTART;TZID=UTC:20160917T050000
DTEND;TZID=UTC:20160917T190000
DTSTAMP:20260422T085050
CREATED:20160728T151448Z
LAST-MODIFIED:20160728T151638Z
UID:7924-1474088400-1474138800@www.ottawaparentingtimes.ca
SUMMARY:Ottawa Fine Arts OPEN HOUSE - Carlingwood Location - Sept.17\, 2016
DESCRIPTION:September 17\, 2016 5-7pm \nCarlingwood Retirement Residence. \n200 Lockhart Avenue\, Ottawa \nAll our creative staff is looking forward to welcome you and tell you more about our Academy. You will also see stage performances in music and dance; you can engage in theatrical games with us\, enjoy an exhibition of paintings and participate in arts and crafts “hands on” activities. \nPlease don’t forget to have some of our refreshments and treats as you explore the arts with us and enjoy the showcase. \nRegistration for classes will be open throughout the event. You and your child are welcome to talk to any of our teachers and ask questions. We will be honest and forthright with you. \nhttp://ottawafinearts.ca/news/open-day-carlingwood-at-september-10-2016/ \n 
URL:https://www.ottawaparentingtimes.ca/event/ottawa-fine-arts-open-house-carlingwood-location-sept-17-2016/
END:VEVENT
END:VCALENDAR