BEGIN:VCALENDAR
VERSION:2.0
PRODID:-//Ottawa Parenting Times Magazine - ECPv5.1.6//NONSGML v1.0//EN
CALSCALE:GREGORIAN
METHOD:PUBLISH
X-WR-CALNAME:Ottawa Parenting Times Magazine
X-ORIGINAL-URL:https://www.ottawaparentingtimes.ca
X-WR-CALDESC:Events for Ottawa Parenting Times Magazine
BEGIN:VTIMEZONE
TZID:UTC
BEGIN:STANDARD
TZOFFSETFROM:+0000
TZOFFSETTO:+0000
TZNAME:UTC
DTSTART:20190101T000000
END:STANDARD
END:VTIMEZONE
BEGIN:VEVENT
DTSTART;VALUE=DATE:20190721
DTEND;VALUE=DATE:20190722
DTSTAMP:20260422T090109
CREATED:20190625T174422Z
LAST-MODIFIED:20190625T174422Z
UID:12523-1563667200-1563753599@www.ottawaparentingtimes.ca
SUMMARY:Ottawa Kombucha Festival - July 21\, 2019
DESCRIPTION:When: July 21\, 10 a.m. to 4 p.m.\nWhere: Horticulture Building\,\nLansdowne Park\nWhat: The 2nd annual Kombucha\nFestival features samples from\ndifferent kombucha companies\,\nhomemade kombucha workshops\,\nfermentation seminars\, music\,\nhealthy food and more. Over 2\,000\npeople attended last year.\nWebsite: boochfest.ca/canadiankombuchafestival
URL:https://www.ottawaparentingtimes.ca/event/ottawa-kombucha-festival-july-21-2019/
LOCATION:Lansdowne Park\, Ottawa
END:VEVENT
END:VCALENDAR