BEGIN:VCALENDAR
VERSION:2.0
PRODID:-//Ottawa Parenting Times Magazine - ECPv5.1.6//NONSGML v1.0//EN
CALSCALE:GREGORIAN
METHOD:PUBLISH
X-WR-CALNAME:Ottawa Parenting Times Magazine
X-ORIGINAL-URL:https://www.ottawaparentingtimes.ca
X-WR-CALDESC:Events for Ottawa Parenting Times Magazine
BEGIN:VTIMEZONE
TZID:UTC
BEGIN:STANDARD
TZOFFSETFROM:+0000
TZOFFSETTO:+0000
TZNAME:UTC
DTSTART:20200101T000000
END:STANDARD
END:VTIMEZONE
BEGIN:VEVENT
DTSTART;VALUE=DATE:20200404
DTEND;VALUE=DATE:20200406
DTSTAMP:20260422T090258
CREATED:20191123T163618Z
LAST-MODIFIED:20191123T163618Z
UID:12767-1585958400-1586131199@www.ottawaparentingtimes.ca
SUMMARY:Ottawa Parent & Child Expo @ Nepean Sportsplex Featuring PJ Masks - April 4 & 5\, 2020
DESCRIPTION:Ottawa Parent and Child Expo – April 4 & 5\, 2020 @ Nepean Sportsplex\nWhen: Saturday\, April 4\, 10 a.m. to 5 p.m.; Sunday\, April 5\, 10 a.m. to 5 p.m.\nWhere: Nepean Sportsplex\, 1701 Woodroffe Ave.\nWhat: Ottawa’s largest and most popular parenting show and kids expo features more than 125 local parenting exhibitors\, main stage entertainment\, a meet and greet with your child’s favourite mascots and characters (PJ Masks and others)\, and bouncy castles. All affordable\, and free parking! Goody bags for all attendees\, while supplies last.\nWebsite: www.parentandchildexpo.ca
URL:https://www.ottawaparentingtimes.ca/event/ottawa-parent-child-expo-nepean-sportsplex-featuring-pj-masks-april-4-5-2020/
LOCATION:Nepean Sportsplex\, 1701 Woodroffe Ave.\, Ottawa\, Ontario
END:VEVENT
END:VCALENDAR