BEGIN:VCALENDAR
VERSION:2.0
PRODID:-//Ottawa Parenting Times Magazine - ECPv5.1.6//NONSGML v1.0//EN
CALSCALE:GREGORIAN
METHOD:PUBLISH
X-WR-CALNAME:Ottawa Parenting Times Magazine
X-ORIGINAL-URL:https://www.ottawaparentingtimes.ca
X-WR-CALDESC:Events for Ottawa Parenting Times Magazine
BEGIN:VTIMEZONE
TZID:UTC
BEGIN:STANDARD
TZOFFSETFROM:+0000
TZOFFSETTO:+0000
TZNAME:UTC
DTSTART:20170101T000000
END:STANDARD
END:VTIMEZONE
BEGIN:VEVENT
DTSTART;VALUE=DATE:20170325
DTEND;VALUE=DATE:20170327
DTSTAMP:20260422T135453
CREATED:20161026T133408Z
LAST-MODIFIED:20161026T133520Z
UID:8280-1490400000-1490572799@www.ottawaparentingtimes.ca
SUMMARY:Ottawa Parent & Child Spring Expo - March 25 & 26\, 2017 @ the Nepean Sportsplex
DESCRIPTION:A FUN\, INFORMATIVE & AFFORDABLE WEEKEND FOR THE\nWHOLE FAMILY MARCH 25 & 26\, 2017 at the NEPEAN SPORTSPLEX\nWhether you’re a parent or child there’s something\nfor everyone from toddlers to tweens.\nPlay\, learn and explore!\nExplore all day!  \nMeet 125+ Leading LOCAL parenting exhibitors from toddlers to the tweens!\nOttawa Parenting Times Magazine is thrilled to present the Ottawa Parent & Child Expo for Ottawa families. On March 25 & 26\, 2017\, gather the kids and head to the family-friendly Nepean Sportsplex (Entrance 4 or Entrance 1) for a weekend of family fun and information.\nParents will find a variety of their favourite Ottawa exhibitors offering important parenting information\, and kids will find Dora the Explorer and Boots LIVE for a meet and greet\, onstage musical performances\, as well as friendly-mascots to hug\, robotics\, princesses\, and a variety of other activities that focus on fun\, learning\, being healthy and active. \nIncluding gymnastics demonstrations\, face painting\, arts and crafts activities\, an Usborne Books reading corner\, demos and much more. It’s an exciting family event where you and your children can play\, learn\, and explore – and it’s affordable! \nEnjoy your visit to the Ottawa Parent and Child Expo with free parking and a free show bag for the first 750 families each day! \n \n \n\n\n\n\nFor the Parents:\n• 125+ Ottawa exhibitors\, including:\n• New products\, shopping and gifts\n• Parent and child fitness\n• Local education\, French immersion\, and tutoring options for your child\n• Talk with Ottawa private schools\n• Family health and wellness\n• Summer camps\, child care choices\, and sport & music registration options for your child\n• Questions? Talk with local parenting experts\n• And more… \n\n\n\nFor the Kids:\n• Meet & Greet Dora the Explorer and Boots and other SPECIAL GUESTS! soon to be announced*\n• Enjoy music entertainment & main stage performances\, included with admission price! \n• Meet & Greet Your favourite princesses from Glass Slipper Prince Parties!\n• Create and have fun at the various play zones!\n• Exhibitor demonstrations!\n• Face painting!\n• Starr Gymnastics\, and Try-It Play zone and interactive play zones!\n• Special mascot appearances!\n• Check www.ParentandChildExpo.ca for Expo updates right up to the event\, more to come! \n*Note: Dora and Boots appearances are free with paid admission to the Expo. You must obtain a Dora or Boots ticket when paying for admission to the Expo\, and is required to enter the “Meet & Greet” line to meet Dora and Boots. There are a limited number of appearances each morning and afternoon of each day. See schedule for exact times each day. \nFOOD IS AVAILABLE ONSITE AT THE NEPEAN SPORTSXPLEX RESTARAUNT AND NEPEAN SPORTSPLEX CANTEEN OR BRING YOUR OWN!\n\n\n\nFREE PARKING ALL DAY! \n\n    \n\n\n\nOur Sponsors and Partners
URL:https://www.ottawaparentingtimes.ca/event/ottawa-parent-child-spring-expo-march-25-26-2017-nepean-sportsplex/
END:VEVENT
END:VCALENDAR