BEGIN:VCALENDAR
VERSION:2.0
PRODID:-//Ottawa Parenting Times Magazine - ECPv5.1.6//NONSGML v1.0//EN
CALSCALE:GREGORIAN
METHOD:PUBLISH
X-WR-CALNAME:Ottawa Parenting Times Magazine
X-ORIGINAL-URL:https://www.ottawaparentingtimes.ca
X-WR-CALDESC:Events for Ottawa Parenting Times Magazine
BEGIN:VTIMEZONE
TZID:UTC
BEGIN:STANDARD
TZOFFSETFROM:+0000
TZOFFSETTO:+0000
TZNAME:UTC
DTSTART:20170101T000000
END:STANDARD
END:VTIMEZONE
BEGIN:VEVENT
DTSTART;VALUE=DATE:20170208
DTEND;VALUE=DATE:20170209
DTSTAMP:20260422T154858
CREATED:20170208T164901Z
LAST-MODIFIED:20170208T164901Z
UID:8658-1486512000-1486598399@www.ottawaparentingtimes.ca
SUMMARY:Ottawa PoutineFest - May 4 to 7\, 2017
DESCRIPTION:When: May 4-7\, 2017\nWhere: Ottawa City Hall\,\n110 Laurier Ave. W.\nWhat: You won’t want to miss this amazing\nfoodie experience\, and the first big festival\nto kick off spring\, featuring traditional\, exotic\nand extreme poutine from around the world\,\na world record attempt for the “biggest”\npoutine (approx. 2\,500 lbs. with proceeds\ngoing to support Ottawa food banks) as\nwell as live entertainment\, cooking demonstrations\,\na Kids Fun Zone\, poutine-eating\ncontest\, and tons of fun activities like balloon\nanimals\, caricatures\, face painting and\nmore.\nWebsite: ottawapoutinefest.ca
URL:https://www.ottawaparentingtimes.ca/event/ottawa-poutinefest-may-4-7-2017/
LOCATION:City Hall\, 110 Laurier Ave. W.\, Ottawa\, ON
END:VEVENT
END:VCALENDAR