BEGIN:VCALENDAR
VERSION:2.0
PRODID:-//Ottawa Parenting Times Magazine - ECPv5.1.6//NONSGML v1.0//EN
CALSCALE:GREGORIAN
METHOD:PUBLISH
X-WR-CALNAME:Ottawa Parenting Times Magazine
X-ORIGINAL-URL:https://www.ottawaparentingtimes.ca
X-WR-CALDESC:Events for Ottawa Parenting Times Magazine
BEGIN:VTIMEZONE
TZID:UTC
BEGIN:STANDARD
TZOFFSETFROM:+0000
TZOFFSETTO:+0000
TZNAME:UTC
DTSTART:20170101T000000
END:STANDARD
END:VTIMEZONE
BEGIN:VEVENT
DTSTART;VALUE=DATE:20170916
DTEND;VALUE=DATE:20170917
DTSTAMP:20260422T120645
CREATED:20170815T033554Z
LAST-MODIFIED:20170815T033554Z
UID:11012-1505520000-1505606399@www.ottawaparentingtimes.ca
SUMMARY:The Ottawa School of Theatre - OPEN HOUSE - September 16\, 2017
DESCRIPTION:The Ottawa School of Theatre!\nWe are celebrating and hosting an\nOpen House Saturday\, September 16\, 1-3pm.\nEveryone is welcome!\nTheatre studies build self-esteem\,\npromote life skills: physical and perceptual\nabilities\, cooperation\, concentration\,\nproblem solving and creative\nthinking. These skills\, are transferable\nto other areas of living and working.\nThe Ottawa School of Theatre provides\nan excellent learning environment\nfor students of all ages in both\nFrench and English. Ottawa’s best\ntheatre artists will teach Improv\, Acting\, On-Camera\, Shakespeare\, Musical\nTheatre\, and basic ACTing classes!\nA 15 year old student: “I used to be so shy\, theatre classes really helped me feel\nbetter about myself.” Kathi Langston\, Artistic Director: “We must never stop\ntrying to make this world a better place – the best it can be. Student by student\,\nOST helps do just that.”\nOnline registration: www.oypts.ca / 613-580-2764
URL:https://www.ottawaparentingtimes.ca/event/ottawa-school-theatre-open-house-september-16-2017/
LOCATION:Shenkman Arts Centre\, 245 Centrum Blvd.\, Ottawa\, ON
END:VEVENT
END:VCALENDAR