BEGIN:VCALENDAR
VERSION:2.0
PRODID:-//Ottawa Parenting Times Magazine - ECPv5.1.6//NONSGML v1.0//EN
CALSCALE:GREGORIAN
METHOD:PUBLISH
X-WR-CALNAME:Ottawa Parenting Times Magazine
X-ORIGINAL-URL:https://www.ottawaparentingtimes.ca
X-WR-CALDESC:Events for Ottawa Parenting Times Magazine
BEGIN:VTIMEZONE
TZID:UTC
BEGIN:STANDARD
TZOFFSETFROM:+0000
TZOFFSETTO:+0000
TZNAME:UTC
DTSTART:20160101T000000
END:STANDARD
END:VTIMEZONE
BEGIN:VEVENT
DTSTART;VALUE=DATE:20160627
DTEND;VALUE=DATE:20160628
DTSTAMP:20260422T192613
CREATED:20160531T021954Z
LAST-MODIFIED:20160531T021954Z
UID:7597-1466985600-1467071999@www.ottawaparentingtimes.ca
SUMMARY:Postnatal Exercise
DESCRIPTION:An effective strength training workout that allows\nyou to bond with your baby. Build strength\, tone\nmuscles\, regain functional movement\, improve\nyour posture and bounce back after childbirth\,\nall while having fun with your baby. Use your\nbaby as resistance and strengthen your back\,\nlegs\, upper body and core. For mothers/fathers\nand infants from eight weeks to 12 months.\nCet atelier est offert en anglais seulement.\nRegistration begins April 6 at 9:30 a.m.\nDate: Monday\, June 27\nTimes: 2 p.m. to 3 p.m.\nLocation: Mothercraft Ottawa\, 475 Evered Ave.\nProvided by: Véronique Roberts\,\nwww.mothercraft.com\nFees: Free\nContact: Cathy Cadieux: 613-728-1839 ext. 248
URL:https://www.ottawaparentingtimes.ca/event/postnatal-exercise/
END:VEVENT
END:VCALENDAR