BEGIN:VCALENDAR
VERSION:2.0
PRODID:-//Ottawa Parenting Times Magazine - ECPv5.1.6//NONSGML v1.0//EN
CALSCALE:GREGORIAN
METHOD:PUBLISH
X-WR-CALNAME:Ottawa Parenting Times Magazine
X-ORIGINAL-URL:https://www.ottawaparentingtimes.ca
X-WR-CALDESC:Events for Ottawa Parenting Times Magazine
BEGIN:VTIMEZONE
TZID:UTC
BEGIN:STANDARD
TZOFFSETFROM:+0000
TZOFFSETTO:+0000
TZNAME:UTC
DTSTART:20170101T000000
END:STANDARD
END:VTIMEZONE
BEGIN:VEVENT
DTSTART;VALUE=DATE:20170929
DTEND;VALUE=DATE:20171101
DTSTAMP:20260422T071432
CREATED:20170812T162641Z
LAST-MODIFIED:20170812T162641Z
UID:11000-1506643200-1509494399@www.ottawaparentingtimes.ca
SUMMARY:Pumpkinferno Returns - Select evenings from late September through October 2017
DESCRIPTION:When: Open select evenings from\nlate September through October\nWhere: Upper Canada Village\, on County\nRoad 2\, 11 kilometres east of Morrisburg and\n29 kilometres west of Cornwall.\nWhat: The award-winning Pumpkinferno\,\nfeatures a selection of specially designed\nCanada 150-themed pumpkin-carved displays.
URL:https://www.ottawaparentingtimes.ca/event/pumpkinferno-returns-select-evenings-late-september-october-2017/
LOCATION:Upper Canada Village\, Morrisburg\, ON\, K0C 1X0
END:VEVENT
END:VCALENDAR