BEGIN:VCALENDAR
VERSION:2.0
PRODID:-//Ottawa Parenting Times Magazine - ECPv5.1.6//NONSGML v1.0//EN
CALSCALE:GREGORIAN
METHOD:PUBLISH
X-WR-CALNAME:Ottawa Parenting Times Magazine
X-ORIGINAL-URL:https://www.ottawaparentingtimes.ca
X-WR-CALDESC:Events for Ottawa Parenting Times Magazine
BEGIN:VTIMEZONE
TZID:UTC
BEGIN:STANDARD
TZOFFSETFROM:+0000
TZOFFSETTO:+0000
TZNAME:UTC
DTSTART:20170101T000000
END:STANDARD
END:VTIMEZONE
BEGIN:VEVENT
DTSTART;VALUE=DATE:20170824
DTEND;VALUE=DATE:20170825
DTSTAMP:20260422T135246
CREATED:20170815T033834Z
LAST-MODIFIED:20170815T041127Z
UID:11014-1503532800-1503619199@www.ottawaparentingtimes.ca
SUMMARY:Revel Academy - OPEN HOUSE - Drop-In on August 24\, 2017
DESCRIPTION:DROP-IN DAY: \nAugust 24th\, 10:00 a.m. – 4:00 p.m. \nOPEN HOUSE: \nThursday\, October 5th\, 6:00 p.m. – 8:00 p.m. and \nTuesday\, November 14th\,  6:00 pm – 8:00 p.m. \nSuite 200 – 1550 Laperriere Avenue\, Ottawa\, ON \n613-700-2132 \ninfo@revelacademy.ca \nwww.RevelAcademy.ca
URL:https://www.ottawaparentingtimes.ca/event/revel-academy-open-house-drop-august-24-2017/
END:VEVENT
END:VCALENDAR