BEGIN:VCALENDAR
VERSION:2.0
PRODID:-//Ottawa Parenting Times Magazine - ECPv5.1.6//NONSGML v1.0//EN
CALSCALE:GREGORIAN
METHOD:PUBLISH
X-WR-CALNAME:Ottawa Parenting Times Magazine
X-ORIGINAL-URL:https://www.ottawaparentingtimes.ca
X-WR-CALDESC:Events for Ottawa Parenting Times Magazine
BEGIN:VTIMEZONE
TZID:UTC
BEGIN:STANDARD
TZOFFSETFROM:+0000
TZOFFSETTO:+0000
TZNAME:UTC
DTSTART:20170101T000000
END:STANDARD
END:VTIMEZONE
BEGIN:VEVENT
DTSTART;VALUE=DATE:20171005
DTEND;VALUE=DATE:20171006
DTSTAMP:20260422T120646
CREATED:20170815T041221Z
LAST-MODIFIED:20170815T041526Z
UID:11018-1507161600-1507247999@www.ottawaparentingtimes.ca
SUMMARY:Revel Academy - OPEN HOUSE - October 5th\, 2017
DESCRIPTION:OPEN HOUSE: \nThursday\, October 5th\, 6:00 p.m. – 8:00 p.m. and \nTuesday\, November 14th\,  6:00 pm – 8:00 p.m. \nSuite 200 – 1550 Laperriere Avenue\, Ottawa\, ON \n613-700-2132 \ninfo@revelacademy.ca \nwww.RevelAcademy.ca
URL:https://www.ottawaparentingtimes.ca/event/revel-academy-open-house-october-5th-2017/
END:VEVENT
END:VCALENDAR