BEGIN:VCALENDAR
VERSION:2.0
PRODID:-//Ottawa Parenting Times Magazine - ECPv5.1.6//NONSGML v1.0//EN
CALSCALE:GREGORIAN
METHOD:PUBLISH
X-WR-CALNAME:Ottawa Parenting Times Magazine
X-ORIGINAL-URL:https://www.ottawaparentingtimes.ca
X-WR-CALDESC:Events for Ottawa Parenting Times Magazine
BEGIN:VTIMEZONE
TZID:UTC
BEGIN:STANDARD
TZOFFSETFROM:+0000
TZOFFSETTO:+0000
TZNAME:UTC
DTSTART:20200101T000000
END:STANDARD
END:VTIMEZONE
BEGIN:VEVENT
DTSTART;VALUE=DATE:20200201
DTEND;VALUE=DATE:20200401
DTSTAMP:20260422T090143
CREATED:20200208T195754Z
LAST-MODIFIED:20200208T195754Z
UID:12896-1580515200-1585699199@www.ottawaparentingtimes.ca
SUMMARY:Rink of Dreams Ottawa - Until March 31 (weather permitting)
DESCRIPTION:Rink of Dreams\nWhen: Until March 31 (weather\npermitting)\, 6 a.m. to 11 p.m.\nWhere: City Hall\, 110 Laurier Ave. W.\nWhat: Enjoy free ice skating on a\nrefrigerated ice surface seven days a\nweek. Skate rentals and skate sharpening\nare available daily. The use of hockey\nsticks\, pucks and balls are not permitted\non the ice surface. Afterwards\, grab\na Beavertail and head inside City Hall\nto visit the free-admission Barbara Ann\nScott and Karsh-Masson galleries and\nthe Ottawa Sports Hall of Fame.\nWebsite: ottawa.ca
URL:https://www.ottawaparentingtimes.ca/event/rink-of-dreams-ottawa-until-march-31-weather-permitting/
LOCATION:Ottawa City Hall\, 110 Laurier Ave. W. \, Ottawa\, Ontario
END:VEVENT
END:VCALENDAR