BEGIN:VCALENDAR
VERSION:2.0
PRODID:-//Ottawa Parenting Times Magazine - ECPv5.1.6//NONSGML v1.0//EN
CALSCALE:GREGORIAN
METHOD:PUBLISH
X-WR-CALNAME:Ottawa Parenting Times Magazine
X-ORIGINAL-URL:https://www.ottawaparentingtimes.ca
X-WR-CALDESC:Events for Ottawa Parenting Times Magazine
BEGIN:VTIMEZONE
TZID:UTC
BEGIN:STANDARD
TZOFFSETFROM:+0000
TZOFFSETTO:+0000
TZNAME:UTC
DTSTART:20170101T000000
END:STANDARD
END:VTIMEZONE
BEGIN:VEVENT
DTSTART;TZID=UTC:20170812T080000
DTEND;TZID=UTC:20170812T170000
DTSTAMP:20260422T135123
CREATED:20170812T161431Z
LAST-MODIFIED:20170812T161431Z
UID:10986-1502524800-1502557200@www.ottawaparentingtimes.ca
SUMMARY:Russell Fair - September 7 to 10\, 2017
DESCRIPTION:When: Sept. 7-10\, 2017\nWhere: Russell\, Ont.\,\nsoutheast of Ottawa\nWhat: In the pleasant rural village of\nRussell\, the tradition of agricultural and\nhomecraft exhibits is complemented by the\nRobertson Amusements midway\, truck and\ntractor pulls\, a demolition derby and daily\nlive entertainment for young and the young\nat heart. Just minutes off the 417\, east of\nOttawa. Check the website for updates and\nschedules.\nWebsite: www.russellfair.com
URL:https://www.ottawaparentingtimes.ca/event/russell-fair-september-7-10-2017/
LOCATION:Village of Russell\, Russell\, Ontario
END:VEVENT
END:VCALENDAR