BEGIN:VCALENDAR
VERSION:2.0
PRODID:-//Ottawa Parenting Times Magazine - ECPv5.1.6//NONSGML v1.0//EN
CALSCALE:GREGORIAN
METHOD:PUBLISH
X-WR-CALNAME:Ottawa Parenting Times Magazine
X-ORIGINAL-URL:https://www.ottawaparentingtimes.ca
X-WR-CALDESC:Events for Ottawa Parenting Times Magazine
BEGIN:VTIMEZONE
TZID:UTC
BEGIN:STANDARD
TZOFFSETFROM:+0000
TZOFFSETTO:+0000
TZNAME:UTC
DTSTART:20150101T000000
END:STANDARD
END:VTIMEZONE
BEGIN:VEVENT
DTSTART;VALUE=DATE:20151128
DTEND;VALUE=DATE:20151129
DTSTAMP:20260422T071921
CREATED:20151112T232404Z
LAST-MODIFIED:20151112T232404Z
UID:6875-1448668800-1448755199@www.ottawaparentingtimes.ca
SUMMARY:Santa's Parade of Lights
DESCRIPTION:Once again the Ottawa Professional Firefighters Association will be hosting SANTA’S PARADE OF LIGHTS on Saturday\, November 28th 2015 @ 6PM on St-Joseph Blvd. in Orleans. \nPlease come out and join us on Parade Day and if you wish\, consider being a part of the FUN. Our Web site will list confirmed entries and allow groups (Associations) and Business’ an opportunity to lend a hand with confirmed entries. Entries are limited and please remember this\, the more help an entry has (Either in Labour\, Creativity\, and Funding) the more impressive we can make this event. \nRemember\, Please review all Parade rules\, and let’s make this years Parade Shine brighter than ever! Sincerely\, Bob Rainboth Chairman\, SANTA’S PARADE OF LIGHTS.
URL:https://www.ottawaparentingtimes.ca/event/santas-parade-of-lights/
LOCATION:Unnamed Venue\, Orleans (Ottawa)\, Canada
END:VEVENT
END:VCALENDAR