BEGIN:VCALENDAR
VERSION:2.0
PRODID:-//Ottawa Parenting Times Magazine - ECPv5.1.6//NONSGML v1.0//EN
CALSCALE:GREGORIAN
METHOD:PUBLISH
X-WR-CALNAME:Ottawa Parenting Times Magazine
X-ORIGINAL-URL:https://www.ottawaparentingtimes.ca
X-WR-CALDESC:Events for Ottawa Parenting Times Magazine
BEGIN:VTIMEZONE
TZID:UTC
BEGIN:STANDARD
TZOFFSETFROM:+0000
TZOFFSETTO:+0000
TZNAME:UTC
DTSTART:20180101T000000
END:STANDARD
END:VTIMEZONE
BEGIN:VEVENT
DTSTART;VALUE=DATE:20180126
DTEND;VALUE=DATE:20180304
DTSTAMP:20260422T121733
CREATED:20180126T172043Z
LAST-MODIFIED:20180126T172043Z
UID:11473-1516924800-1520121599@www.ottawaparentingtimes.ca
SUMMARY:Seussical - February 26\, 2018 to March 3\, 2018 @ Shenkman Arts Centre
DESCRIPTION:When: February 26 to March 3 at\n7:30 p.m. and March 3 at 2 p.m.\nWhere: Shenkman Arts\nCentre\, 245 Centrum Boulevard\nWhat: Presented by the students of St. Peter Catholic High School in English\nonly\, this high-energy musical performance\nof various Dr. Seuss stories will be sure to\nentertain all ages. Tickets are $15 at the\ndoor.\nWebsite: www.shenkmanarts.ca
URL:https://www.ottawaparentingtimes.ca/event/seussical-february-26-2018-march-3-2018-shenkman-arts-centre/
LOCATION:Shenkman Arts Centre\, 245 Centrum Blvd.\, Ottawa\, ON
END:VEVENT
END:VCALENDAR