BEGIN:VCALENDAR
VERSION:2.0
PRODID:-//Ottawa Parenting Times Magazine - ECPv5.1.6//NONSGML v1.0//EN
CALSCALE:GREGORIAN
METHOD:PUBLISH
X-WR-CALNAME:Ottawa Parenting Times Magazine
X-ORIGINAL-URL:https://www.ottawaparentingtimes.ca
X-WR-CALDESC:Events for Ottawa Parenting Times Magazine
BEGIN:VTIMEZONE
TZID:UTC
BEGIN:STANDARD
TZOFFSETFROM:+0000
TZOFFSETTO:+0000
TZNAME:UTC
DTSTART:20160101T000000
END:STANDARD
END:VTIMEZONE
BEGIN:VEVENT
DTSTART;VALUE=DATE:20160620
DTEND;VALUE=DATE:20160621
DTSTAMP:20260422T193603
CREATED:20160531T021639Z
LAST-MODIFIED:20160531T021639Z
UID:7594-1466380800-1466467199@www.ottawaparentingtimes.ca
SUMMARY:Sleep and Routines
DESCRIPTION:Discussion that includes tips on naptime and\nevening routines\, as well as how to teach your\nchild to self-soothe and dealing with night waking.\nDate: Monday\, June 20\nTimes: 2 p.m. to 4 p.m.\nLocation: Centrepointe Early Childhood\nResource Centre\, 75 Hemmingwood Way\nProvided by: Centrepointe Early Childhood\nResource Centre: www.centrepointechildcareservices.\ncom/workshop/upcoming-workshops\nFees: None\nContact: Lisa: 613-225-4819
URL:https://www.ottawaparentingtimes.ca/event/sleep-and-routines/
END:VEVENT
END:VCALENDAR