BEGIN:VCALENDAR
VERSION:2.0
PRODID:-//Ottawa Parenting Times Magazine - ECPv5.1.6//NONSGML v1.0//EN
CALSCALE:GREGORIAN
METHOD:PUBLISH
X-WR-CALNAME:Ottawa Parenting Times Magazine
X-ORIGINAL-URL:https://www.ottawaparentingtimes.ca
X-WR-CALDESC:Events for Ottawa Parenting Times Magazine
BEGIN:VTIMEZONE
TZID:UTC
BEGIN:STANDARD
TZOFFSETFROM:+0000
TZOFFSETTO:+0000
TZNAME:UTC
DTSTART:20200101T000000
END:STANDARD
END:VTIMEZONE
BEGIN:VEVENT
DTSTART;VALUE=DATE:20200227
DTEND;VALUE=DATE:20200228
DTSTAMP:20260422T090055
CREATED:20200208T194529Z
LAST-MODIFIED:20200208T194529Z
UID:12885-1582761600-1582847999@www.ottawaparentingtimes.ca
SUMMARY:Snowball - A Cool Winter’s Eve - February 27\, 2020
DESCRIPTION:Where: Royal Canadian Geographic\nSociety Building\, 50 Sussex Dr.\nWhen: February 27\nWhat: Gather your friends\, clients\, and\ncolleagues for the Snowball for The\nSnowsuit Fund – a cool event that will\nraise money to help keep kids warm in\nour community! Ticket holders will be\ntreated to a cocktail party experience\nthat includes DJs and live music plus\nroving and pop-up performers\, wine\,\ncraft beer\, cocktails\, special coffees\,\nand of course\, the ever-popular auction.\nTickets support The Snowsuit Fund\,\nhelping to keep children warm in\nthe winter.\nWebsite: eventbrite.ca/e/snowball-acool-winters-eve-tickets-85194995525
URL:https://www.ottawaparentingtimes.ca/event/snowball-a-cool-winters-eve-february-27-2020/
LOCATION:Royal Canadian Geographic Society Building\, 50 Sussex Dr.\, Ottawa\, ON\, K1M 2K1\, Canada
END:VEVENT
END:VCALENDAR