BEGIN:VCALENDAR
VERSION:2.0
PRODID:-//Ottawa Parenting Times Magazine - ECPv5.1.6//NONSGML v1.0//EN
CALSCALE:GREGORIAN
METHOD:PUBLISH
X-WR-CALNAME:Ottawa Parenting Times Magazine
X-ORIGINAL-URL:https://www.ottawaparentingtimes.ca
X-WR-CALDESC:Events for Ottawa Parenting Times Magazine
BEGIN:VTIMEZONE
TZID:UTC
BEGIN:STANDARD
TZOFFSETFROM:+0000
TZOFFSETTO:+0000
TZNAME:UTC
DTSTART:20170101T000000
END:STANDARD
END:VTIMEZONE
BEGIN:VEVENT
DTSTART;VALUE=DATE:20170620
DTEND;VALUE=DATE:20170626
DTSTAMP:20260422T141440
CREATED:20170421T143114Z
LAST-MODIFIED:20170421T143114Z
UID:9723-1497916800-1498435199@www.ottawaparentingtimes.ca
SUMMARY:Summer Solstice Aboriginal Arts Festival - June 20 - 25\, 2017
DESCRIPTION:Summer Solstice Aboriginal\nArts Festival\nWhen: June 20-25\, 2017\nWhere: Vincent Massey Park\nWhat: In honour of National Aboriginal Day\,\nexperience some of Canada’s best Aboriginal\ntalent\, featuring music\, thrilling family\nprogramming and more!\nWebsite: www.ottawasummersolstice.ca
URL:https://www.ottawaparentingtimes.ca/event/summer-solstice-aboriginal-arts-festival-june-20-25-2017/
LOCATION:Vincent Massey Park\, Ottawa\, Ontario
END:VEVENT
END:VCALENDAR