BEGIN:VCALENDAR
VERSION:2.0
PRODID:-//Ottawa Parenting Times Magazine - ECPv5.1.6//NONSGML v1.0//EN
CALSCALE:GREGORIAN
METHOD:PUBLISH
X-WR-CALNAME:Ottawa Parenting Times Magazine
X-ORIGINAL-URL:https://www.ottawaparentingtimes.ca
X-WR-CALDESC:Events for Ottawa Parenting Times Magazine
BEGIN:VTIMEZONE
TZID:UTC
BEGIN:STANDARD
TZOFFSETFROM:+0000
TZOFFSETTO:+0000
TZNAME:UTC
DTSTART:20160101T000000
END:STANDARD
END:VTIMEZONE
BEGIN:VEVENT
DTSTART;VALUE=DATE:20160617
DTEND;VALUE=DATE:20160621
DTSTAMP:20260422T191646
CREATED:20160530T171226Z
LAST-MODIFIED:20160530T171226Z
UID:7579-1466121600-1466467199@www.ottawaparentingtimes.ca
SUMMARY:Summer Solstice Aboriginal Festival
DESCRIPTION:When: June 17-20\, 2016\nWhere: Vincent Massey Park\nWhat: The Summer Solstice Aboriginal Arts\nFestival is a family-oriented multi-disciplinary\narts festival that began in 2008\, and attracts\nover 45\,000 visitors. You’ll find a variety of\nkids\, family and cultural activities\, as well as a\nCompetition Pow Wow. Check online for the\nfull schedule of events.\nWebsite: www.ottawasummersolstice.ca
URL:https://www.ottawaparentingtimes.ca/event/summer-solstice-aboriginal-festival/
END:VEVENT
END:VCALENDAR