BEGIN:VCALENDAR
VERSION:2.0
PRODID:-//Ottawa Parenting Times Magazine - ECPv5.1.6//NONSGML v1.0//EN
CALSCALE:GREGORIAN
METHOD:PUBLISH
X-WR-CALNAME:Ottawa Parenting Times Magazine
X-ORIGINAL-URL:https://www.ottawaparentingtimes.ca
X-WR-CALDESC:Events for Ottawa Parenting Times Magazine
BEGIN:VTIMEZONE
TZID:UTC
BEGIN:STANDARD
TZOFFSETFROM:+0000
TZOFFSETTO:+0000
TZNAME:UTC
DTSTART:20190101T000000
END:STANDARD
END:VTIMEZONE
BEGIN:VEVENT
DTSTART;VALUE=DATE:20190306
DTEND;VALUE=DATE:20190307
DTSTAMP:20260422T103006
CREATED:20190225T012413Z
LAST-MODIFIED:20190225T013431Z
UID:12298-1551830400-1551916799@www.ottawaparentingtimes.ca
SUMMARY:Supporting Students with Language Learning Disabilities or Dyslexia - March 6\, 2019
DESCRIPTION:When: March 6\nWhat: Coaches Kimberly Esdaile and Lisa Piers are hosting a classroom workshop for volunteers supporting student with language learning disabilities (including dyslexia) in OCDSB schools. The classroom is located in the Richard Pfaff Alternative School. Sign-in at the front desk and follow the signs to the classroom on the east side of the building\, second floor room 21. Contact: lscott@onfe-rope.ca or 613-366-3085 Ext.253. Register at Eventbrite. \nWhere: Richard Pfaff Alternative School\, 160 Percy St. \nWebsite: www.eventbrite.ca/e/supporting-students-with-language-learning-disabilities-or-dyslexia-march-6-tickets-53017357343?aff=ebdssbdestsearch
URL:https://www.ottawaparentingtimes.ca/event/supporting-students-with-language-learning-disabilities-or-dyslexia-march-6-2019/
LOCATION:Richard Pfaff Alternative School\, 160 Percey Street\, Ottawa\, ON\, K1R 6E5
END:VEVENT
END:VCALENDAR