BEGIN:VCALENDAR
VERSION:2.0
PRODID:-//Ottawa Parenting Times Magazine - ECPv5.1.6//NONSGML v1.0//EN
CALSCALE:GREGORIAN
METHOD:PUBLISH
X-WR-CALNAME:Ottawa Parenting Times Magazine
X-ORIGINAL-URL:https://www.ottawaparentingtimes.ca
X-WR-CALDESC:Events for Ottawa Parenting Times Magazine
BEGIN:VTIMEZONE
TZID:UTC
BEGIN:STANDARD
TZOFFSETFROM:+0000
TZOFFSETTO:+0000
TZNAME:UTC
DTSTART:20170101T000000
END:STANDARD
END:VTIMEZONE
BEGIN:VEVENT
DTSTART;VALUE=DATE:20170213
DTEND;VALUE=DATE:20170214
DTSTAMP:20260422T154853
CREATED:20170203T031351Z
LAST-MODIFIED:20170203T031351Z
UID:8579-1486944000-1487030399@www.ottawaparentingtimes.ca
SUMMARY:The Temperament Factor: Preventing Misbehaviour by Managing Intensity
DESCRIPTION:The Temperament Factor: Preventing Misbehaviour by Managing Intensity \nSome children are more persistent\, more sensitive\, more intense than their peers\, a real challenge for their parents. You’ll discover ways to prevent problems and make life easier\, at the same time as you learn the strengths that come with a difficult temperament. \n Register online at wocrc.ca \nDate: Mon Feb 13\, 2017  \nTimes: 6:30-8:30  \nLocation: \n2 MacNeil Court\, \nKanata\, ON \nProvided by: OEYC Carleton   www.wocrc.ca\nContact: 613-591-3686 x 5 
URL:https://www.ottawaparentingtimes.ca/event/temperament-factor-preventing-misbehaviour-managing-intensity/
LOCATION:Ottawa\, ON
END:VEVENT
END:VCALENDAR