BEGIN:VCALENDAR
VERSION:2.0
PRODID:-//Ottawa Parenting Times Magazine - ECPv5.1.6//NONSGML v1.0//EN
CALSCALE:GREGORIAN
METHOD:PUBLISH
X-WR-CALNAME:Ottawa Parenting Times Magazine
X-ORIGINAL-URL:https://www.ottawaparentingtimes.ca
X-WR-CALDESC:Events for Ottawa Parenting Times Magazine
BEGIN:VTIMEZONE
TZID:UTC
BEGIN:STANDARD
TZOFFSETFROM:+0000
TZOFFSETTO:+0000
TZNAME:UTC
DTSTART:20170101T000000
END:STANDARD
END:VTIMEZONE
BEGIN:VEVENT
DTSTART;VALUE=DATE:20170207
DTEND;VALUE=DATE:20170301
DTSTAMP:20260422T160759
CREATED:20170203T030812Z
LAST-MODIFIED:20170203T030833Z
UID:8566-1486425600-1488326399@www.ottawaparentingtimes.ca
SUMMARY:Terrific Toddlers
DESCRIPTION:Terrific Toddlers \nToddlers 12 months to 3 years:  \nWe will explore the developmental milestones\, how to create a safe environment for your toddler and the importance of sleep and good nutrition.  Communication with your toddler will also be explored:   \n          Acknowledge feelings \n          Self calming strategies \n          Developing positive self esteem and \n          Positive discipline strategies \nUnderstand and embrace the wonders of toddlerhood.  Tackle issues such as sleep\, good nutrition\, positive communication\, discipline strategies and promoting self esteem! \nDate: Tue Feb 7\, 2017 – Tue Feb 28\, 2017 » Every week on Tue  \nTimes: 6:30 pm – 8:30 pm  \nLocation: Centrepointe Early Childhood Resource Centre \n75 Hemmingwood Way\, Ottawa  K2G 5T6 \nwww.centrepointechildcareservices.com\nFees: Free  \nContact: Lisa  613-225-4819 
URL:https://www.ottawaparentingtimes.ca/event/terrific-toddlers/
LOCATION:Ottawa\, ON\, K2G 5T6\, Canada
END:VEVENT
END:VCALENDAR