BEGIN:VCALENDAR
VERSION:2.0
PRODID:-//Ottawa Parenting Times Magazine - ECPv5.1.6//NONSGML v1.0//EN
CALSCALE:GREGORIAN
METHOD:PUBLISH
X-WR-CALNAME:Ottawa Parenting Times Magazine
X-ORIGINAL-URL:https://www.ottawaparentingtimes.ca
X-WR-CALDESC:Events for Ottawa Parenting Times Magazine
BEGIN:VTIMEZONE
TZID:UTC
BEGIN:STANDARD
TZOFFSETFROM:+0000
TZOFFSETTO:+0000
TZNAME:UTC
DTSTART:20150101T000000
END:STANDARD
END:VTIMEZONE
BEGIN:VEVENT
DTSTART;TZID=UTC:20150922T180000
DTEND;TZID=UTC:20150922T193000
DTSTAMP:20260421T235056
CREATED:20150821T183132Z
LAST-MODIFIED:20150821T183132Z
UID:6527-1442944800-1442950200@www.ottawaparentingtimes.ca
SUMMARY:The Greenwoods Academy
DESCRIPTION:CURRICULUM NIGHT/OPEN HOUSE:\nTuesday Sept. 22\, 6:00-7:30 pm
URL:https://www.ottawaparentingtimes.ca/event/the-greenwoods-academy/
LOCATION:The Greenwoods Academy\, 1056 Klondike Ave\, Ottawa
END:VEVENT
END:VCALENDAR