BEGIN:VCALENDAR
VERSION:2.0
PRODID:-//Ottawa Parenting Times Magazine - ECPv5.1.6//NONSGML v1.0//EN
CALSCALE:GREGORIAN
METHOD:PUBLISH
X-WR-CALNAME:Ottawa Parenting Times Magazine
X-ORIGINAL-URL:https://www.ottawaparentingtimes.ca
X-WR-CALDESC:Events for Ottawa Parenting Times Magazine
BEGIN:VTIMEZONE
TZID:UTC
BEGIN:STANDARD
TZOFFSETFROM:+0000
TZOFFSETTO:+0000
TZNAME:UTC
DTSTART:20200101T000000
END:STANDARD
END:VTIMEZONE
BEGIN:VEVENT
DTSTART;VALUE=DATE:20200131
DTEND;VALUE=DATE:20200210
DTSTAMP:20260422T090247
CREATED:20191123T162547Z
LAST-MODIFIED:20191123T162547Z
UID:12763-1580428800-1581292799@www.ottawaparentingtimes.ca
SUMMARY:The Little Mermaid - Janaury 31 to February 9\, 2020
DESCRIPTION:The Little Mermaid\nWhen: January 31 to February 9. Check website for showtimes.\nWhere: Meridian Theatres at Centrepointe\nWhat: Move over\, Frozen II! Ain’t Seen Nothing Yet presents its adaptation of one of Hans Christian Andersen’s most beloved stories and the classic animated film\, Disney’s The Little Mermaid. With music by eight-time Academy Award winner\, Alan Menken\, lyrics by Howard Ashman and Glenn Slater and a compelling book by Doug Wright\, this fishy fable will capture your heart with its irresistible songs\, including “Under the Sea\,” “Kiss the Girl” and “Part of Your World.” The Little Mermaid is a show for the entire family that promises to take everyone on an exciting and wonderful musical journey under the sea.\nWebsite: meridiancentrepointe.com
URL:https://www.ottawaparentingtimes.ca/event/the-little-mermaid-janaury-31-to-february-9-2020/
LOCATION:Centrepointe Theatres\, 101 Centrepointe Drive\, Ottawa\, Ontario\, Canada
END:VEVENT
END:VCALENDAR