BEGIN:VCALENDAR
VERSION:2.0
PRODID:-//Ottawa Parenting Times Magazine - ECPv5.1.6//NONSGML v1.0//EN
CALSCALE:GREGORIAN
METHOD:PUBLISH
X-WR-CALNAME:Ottawa Parenting Times Magazine
X-ORIGINAL-URL:https://www.ottawaparentingtimes.ca
X-WR-CALDESC:Events for Ottawa Parenting Times Magazine
BEGIN:VTIMEZONE
TZID:UTC
BEGIN:STANDARD
TZOFFSETFROM:+0000
TZOFFSETTO:+0000
TZNAME:UTC
DTSTART:20160101T000000
END:STANDARD
END:VTIMEZONE
BEGIN:VEVENT
DTSTART;VALUE=DATE:20160623
DTEND;VALUE=DATE:20160627
DTSTAMP:20260422T123151
CREATED:20160530T171503Z
LAST-MODIFIED:20160530T171503Z
UID:7581-1466640000-1466985599@www.ottawaparentingtimes.ca
SUMMARY:Tim Hortons Ottawa Dragon Boat Festival
DESCRIPTION:When: June 23-26\, 2016\nWhere: Mooney’s Bay Park on Riverside Drive\nWhat: This four-day celebration\, North\nAmerica’s largest dragon boating festival\, offers\nfree admission to multiple stages featuring\nconcerts\, amusement attractions\, sports demos\,\na variety of artisans\, exhibitors\, delicious treats\,\nbeachside bar\, children’s area and non-stop\nracing.\nWebsite: www.dragonboat.net
URL:https://www.ottawaparentingtimes.ca/event/tim-hortons-ottawa-dragon-boat-festival/
END:VEVENT
END:VCALENDAR