BEGIN:VCALENDAR
VERSION:2.0
PRODID:-//Ottawa Parenting Times Magazine - ECPv5.1.6//NONSGML v1.0//EN
CALSCALE:GREGORIAN
METHOD:PUBLISH
X-WR-CALNAME:Ottawa Parenting Times Magazine
X-ORIGINAL-URL:https://www.ottawaparentingtimes.ca
X-WR-CALDESC:Events for Ottawa Parenting Times Magazine
BEGIN:VTIMEZONE
TZID:UTC
BEGIN:STANDARD
TZOFFSETFROM:+0000
TZOFFSETTO:+0000
TZNAME:UTC
DTSTART:20170101T000000
END:STANDARD
END:VTIMEZONE
BEGIN:VEVENT
DTSTART;VALUE=DATE:20170611
DTEND;VALUE=DATE:20170612
DTSTAMP:20260422T135123
CREATED:20170421T143307Z
LAST-MODIFIED:20170421T143307Z
UID:9726-1497139200-1497225599@www.ottawaparentingtimes.ca
SUMMARY:Touch-A-Truck - June 11\, 2017
DESCRIPTION:When: June 11\, 2017\nWhere: Lincoln Fields Shopping\nCentre\, 2525 Carling Ave.\nWhat: Kids get the chance to see more than\n50 vehicles up close\, plus more family activities\nand entertainment.\nWebsite: www.facebook.com/touchatruckott
URL:https://www.ottawaparentingtimes.ca/event/touch-truck-june-11-2017/
LOCATION:Lincoln Fields Shopping Centre\, 2525 Carling Ave.\, Ottawa\, Ontario
END:VEVENT
END:VCALENDAR