BEGIN:VCALENDAR
VERSION:2.0
PRODID:-//Ottawa Parenting Times Magazine - ECPv5.1.6//NONSGML v1.0//EN
CALSCALE:GREGORIAN
METHOD:PUBLISH
X-WR-CALNAME:Ottawa Parenting Times Magazine
X-ORIGINAL-URL:https://www.ottawaparentingtimes.ca
X-WR-CALDESC:Events for Ottawa Parenting Times Magazine
BEGIN:VTIMEZONE
TZID:UTC
BEGIN:STANDARD
TZOFFSETFROM:+0000
TZOFFSETTO:+0000
TZNAME:UTC
DTSTART:20180101T000000
END:STANDARD
END:VTIMEZONE
BEGIN:VEVENT
DTSTART;VALUE=DATE:20181027
DTEND;VALUE=DATE:20181029
DTSTAMP:20260422T104153
CREATED:20181012T154524Z
LAST-MODIFIED:20181012T154604Z
UID:12063-1540598400-1540771199@www.ottawaparentingtimes.ca
SUMMARY:Trick or Treat to a Wicked Beat at the National Arts Centre - October 27 to 28\, 2018
DESCRIPTION:A lively bilingual one-hour performances featuring the NAC Orchestra. \nGet ready for scream-worthy fun when Samara the Witch and dancers bring to life orchestral favourites like The Sorcerer’s Apprentice in a performance that will put you in high gear for Hallowe’en.\nDress up with the NAC Orchestra for this Halloween concert!\nCONCERT PROGRAM (Subject to change)\nHUMPERDINCK Hansel and Gretel: The Witch’s Dance\nMUSSORGSKY A Night on the Bald Mountain\nSAINT-SAËNS Danse macabre\nMUSSORGSKY Pictures at an Exhibition: The Hut on Fowl’s Legs\, “Baba Yaga”\nDUKAS The Sorcerer’s Apprentice\nGRIEG Peer Gynt Suite No. 1\, Op. 46: IV. In the Hall of the Mountain King\nWILLIAMS Harry Potter and the Philosopher’s Stone: Harry’s Wondrous World\nTUNETOWN PRE-CONCERT ACTIVITIES\nArrive 45 minutes early to participate in hands on pre-concert activities courtesy of the Friends of NAC Orchestra. More than a concert it’s an interactive musical experience! Guaranteed to thrill music lovers of all ages!\nNACOtron presented in collaboration with Rogers TV\nRogers TV is very pleased to present NACOtron\, in partnership with the National Arts Centre Orchestra. We hope you enjoy the giant images on the NACOtron screen as they capture and magnify the magic of these fabulous concerts.\nNATIONAL YOUTH AND EDUCATION TRUST\nThis program is made possible in part by the NAC’s National Youth and Education Trust. The Trust is supported by supporters and patrons of the annual NAC Gala and the donors of the NAC Foundation Corporate Circle and Donors’ Circle.\nTickets on sale now! \n 
URL:https://www.ottawaparentingtimes.ca/event/trick-or-treat-to-a-wicked-beat-october-27-to-28-2018/
LOCATION:National Arts Centre\, 53 Elgin St\, Ottawa\, Ontario\, K1P 5W1\, Canada
END:VEVENT
END:VCALENDAR