BEGIN:VCALENDAR
VERSION:2.0
PRODID:-//Ottawa Parenting Times Magazine - ECPv5.1.6//NONSGML v1.0//EN
CALSCALE:GREGORIAN
METHOD:PUBLISH
X-WR-CALNAME:Ottawa Parenting Times Magazine
X-ORIGINAL-URL:https://www.ottawaparentingtimes.ca
X-WR-CALDESC:Events for Ottawa Parenting Times Magazine
BEGIN:VTIMEZONE
TZID:UTC
BEGIN:STANDARD
TZOFFSETFROM:+0000
TZOFFSETTO:+0000
TZNAME:UTC
DTSTART:20150101T000000
END:STANDARD
END:VTIMEZONE
BEGIN:VEVENT
DTSTART;TZID=UTC:20151107T100000
DTEND;TZID=UTC:20151107T120000
DTSTAMP:20260421T164155
CREATED:20150703T185920Z
LAST-MODIFIED:20150703T185920Z
UID:6470-1446890400-1446897600@www.ottawaparentingtimes.ca
SUMMARY:Westboro Academy Information Session / Open House
DESCRIPTION:Westboro Academy offers a co-ed\, bilingual\, private elementary school education. Serving the Ottawa & Outaouais regions from JK to Grade 8. \nEach fall\, Westboro Academy opens its doors to visitors. Our open houses take place over a two day period. There will be a weekend information session and question period\, followed by a tour. All the teachers will be on hand to speak with and answer your questions. On the following Monday\, the school welcomes visitors to see the classes and see the school while it is in action. If you miss an open house. Feel free to contact us for a personal tour. \nOur next Information Session/Open House: November 7th\, 2015 at 10 am.
URL:https://www.ottawaparentingtimes.ca/event/westboro-academy-information-session-open-house/
LOCATION:Westboro Academy\, 200 Brewer Way\, Ottawa
END:VEVENT
END:VCALENDAR