BEGIN:VCALENDAR
VERSION:2.0
PRODID:-//Ottawa Parenting Times Magazine - ECPv5.1.6//NONSGML v1.0//EN
CALSCALE:GREGORIAN
METHOD:PUBLISH
X-WR-CALNAME:Ottawa Parenting Times Magazine
X-ORIGINAL-URL:https://www.ottawaparentingtimes.ca
X-WR-CALDESC:Events for Ottawa Parenting Times Magazine
BEGIN:VTIMEZONE
TZID:UTC
BEGIN:STANDARD
TZOFFSETFROM:+0000
TZOFFSETTO:+0000
TZNAME:UTC
DTSTART:20160101T000000
END:STANDARD
END:VTIMEZONE
BEGIN:VEVENT
DTSTART;VALUE=DATE:20160610
DTEND;VALUE=DATE:20160613
DTSTAMP:20260422T193007
CREATED:20160530T170729Z
LAST-MODIFIED:20160530T170744Z
UID:7574-1465516800-1465775999@www.ottawaparentingtimes.ca
SUMMARY:Westboro Fuse
DESCRIPTION:Where: Richmond Road (between Island Park Drive and Golden Avenue)\nWhat: A free weekend-long street party and\nneighbourhood showcase with interactive\nfun\, family-friendly programming\, live music\,\nfashion shows and more.\nWebsite: www.westborofuse.com
URL:https://www.ottawaparentingtimes.ca/event/westboro-fuse/
END:VEVENT
END:VCALENDAR