BEGIN:VCALENDAR
VERSION:2.0
PRODID:-//Ottawa Parenting Times Magazine - ECPv5.1.6//NONSGML v1.0//EN
CALSCALE:GREGORIAN
METHOD:PUBLISH
X-WR-CALNAME:Ottawa Parenting Times Magazine
X-ORIGINAL-URL:https://www.ottawaparentingtimes.ca
X-WR-CALDESC:Events for Ottawa Parenting Times Magazine
BEGIN:VTIMEZONE
TZID:UTC
BEGIN:STANDARD
TZOFFSETFROM:+0000
TZOFFSETTO:+0000
TZNAME:UTC
DTSTART:20160101T000000
END:STANDARD
END:VTIMEZONE
BEGIN:VEVENT
DTSTART;VALUE=DATE:20161005
DTEND;VALUE=DATE:20161006
DTSTAMP:20260421T161235
CREATED:20160818T222938Z
LAST-MODIFIED:20160818T222938Z
UID:7981-1475625600-1475711999@www.ottawaparentingtimes.ca
SUMMARY:The Wiggles Wiggle Town Tour - October 5\, 2016
DESCRIPTION:When: Oct. 5\, 3 p.m. & 6:30 p.m.\nWhere: Centrepointe Theatres\,\n101 Centrepointe Dr. \n\nWhat: Popular children’s entertainment\ngroup The Wiggles return to North America\nthis fall to delight families with their incomparable\nbrand of preschool entertainment. Joined\non stage by their lovable friends Dorothy the\nDinosaur\, Captain Feathersword\, Wags the\nDog and Henry the Octopus\, founding member\nAnthony Field (Blue Wiggle)\, Emma Watkins\n(Yellow Wiggle)\, Simon Pryce (Red Wiggle) and\nLachlan Gillespie (Purple Wiggle) are sure to\ndeliver a rocking good time!\nWebsite: www.centrepointetheatre.ca \nPHOTO: The Wiggles
URL:https://www.ottawaparentingtimes.ca/event/wiggles-wiggle-town-tour-october-5-2016-2/
END:VEVENT
END:VCALENDAR