BEGIN:VCALENDAR
VERSION:2.0
PRODID:-//Ottawa Parenting Times Magazine - ECPv5.1.6//NONSGML v1.0//EN
CALSCALE:GREGORIAN
METHOD:PUBLISH
X-WR-CALNAME:Ottawa Parenting Times Magazine
X-ORIGINAL-URL:https://www.ottawaparentingtimes.ca
X-WR-CALDESC:Events for Ottawa Parenting Times Magazine
BEGIN:VTIMEZONE
TZID:UTC
BEGIN:STANDARD
TZOFFSETFROM:+0000
TZOFFSETTO:+0000
TZNAME:UTC
DTSTART:20170101T000000
END:STANDARD
END:VTIMEZONE
BEGIN:VEVENT
DTSTART;VALUE=DATE:20171028
DTEND;VALUE=DATE:20171029
DTSTAMP:20260422T120722
CREATED:20170812T162427Z
LAST-MODIFIED:20170812T162427Z
UID:10998-1509148800-1509235199@www.ottawaparentingtimes.ca
SUMMARY:Yaki’s Hallowe'en Spooktacular Concert - October 28\, 2017
DESCRIPTION:When: Oct. 28\, 2017\, 1 p.m.\nWhere: Centrepointe Theatres\, 101\nCentrepointe Dr. (Centrepointe Studio Theatre)\nWhat: Beloved Ottawa children’s entertainer\nYaki brings his tricks and treats to the\nCentrepointe Studio stage in a spooky celebration\nof sing-alongs that will have audiences\ncackling all afternoon\, to terrifyingly-terrific\ntunes for kids under 10 years. Children are\nencouraged to dress up for this performance.\nWebsite: www.centrepointetheatres.com
URL:https://www.ottawaparentingtimes.ca/event/yakis-halloween-spooktacular-concert-october-28-2017/
LOCATION:Centrepointe Theatres\, 101 Centrepointe Drive\, Ottawa\, Ontario\, Canada
END:VEVENT
END:VCALENDAR